BEGIN:VCALENDAR
VERSION:2.0
PRODID:-//ChamberMaster//Event Calendar 2.0//EN
METHOD:PUBLISH
X-PUBLISHED-TTL:P3D
REFRESH-INTERVAL:P3D
CALSCALE:GREGORIAN
BEGIN:VEVENT
DTSTART:20181018T150000Z
DTEND:20181018T170000Z
X-MICROSOFT-CDO-ALLDAYEVENT:FALSE
SUMMARY:17th Annual Membership Appreciation & Mini Trade Show
DESCRIPTION:Postponed until Thursday\, October 18th due to inclement weather!\n\n\n\n17th Annual Membership Appreciation Day\n\n and Mini Trade Show\n\n \n\nThe Dublin-Laurens Chamber will host our 17th Annual Membership Appreciation  and Mini Trade Show on Thursday\, October 18th at the Chamber. Lunch will be provided by Surchero's Fresh Grill from 11:00 a.m. - 1:00 p.m. There is no charge for lunch but you will need to register.\n\n\n\n\n\nVisit our Exhibitors' booths and register for a chance to win $500 CASH to be given away by Robins Financial Credit Union!\n\n \n\n                     \n\n \n\nOctober 18th will be another great day for business in Dublin-Laurens County.
X-ALT-DESC;FMTTYPE=text/html:<div style="color: rgb(51\, 51\, 51)\; font-family: sans-serif\, Arial\, Verdana\, &quot\;Trebuchet MS&quot\;\; font-size: 13px\;"><br />\n<span style="font-size: 14px\;"><strong><span style="font-family: tahoma\;"><u><span style="font-size:18px\;">Postponed until Thursday\, October 18th due to inclement weather!</span></u><br />\n<br />\n17th&nbsp\;Annual Membership Appreciation Day<br />\n&nbsp\;and Mini Trade Show</span></strong><br />\n<span style="font-family: tahoma\;">&nbsp\;<br />\nThe Dublin-Laurens Chamber will host&nbsp\;our&nbsp\;17th&nbsp\;Annual Membership Appreciation &nbsp\;and Mini Trade Show on Thursday\, October 18th at the Chamber. Lunch will be provided by Surchero&#39\;s Fresh Grill from 11:00 a.m. - 1:00 p.m. There is no charge for lunch but you will need to register.<br />\n<br />\n<br />\nVisit our Exhibitors&#39\; booths and register for a chance to win $500 CASH to be given away by Robins Financial Credit Union!</span></span><br />\n&nbsp\;</div>\n\n<div style="color: rgb(51\, 51\, 51)\; font-family: sans-serif\, Arial\, Verdana\, &quot\;Trebuchet MS&quot\;\; font-size: 13px\; margin-bottom: 8pt\; line-height: 13.65px\;"><span style="font-size: 14px\;"><span style="font-family: tahoma\;"><strong>&nbsp\;&nbsp\;&nbsp\;&nbsp\;&nbsp\;&nbsp\;&nbsp\;&nbsp\;&nbsp\;&nbsp\; &nbsp\; &nbsp\;&nbsp\;&nbsp\;&nbsp\;&nbsp\;&nbsp\;&nbsp\;&nbsp\;</strong></span></span><br />\n&nbsp\;</div>\n\n<div style="color: rgb(51\, 51\, 51)\; font-family: sans-serif\, Arial\, Verdana\, &quot\;Trebuchet MS&quot\;\; font-size: 13px\;"><span style="font-size: 14px\;"><span style="font-family: tahoma\;">October 18th will be another great day for business in Dublin-Laurens County.</span></span></div>\n
LOCATION:McGrath Keen Sr. Conference Center 1200 Bellevue Avenue\, Ste. B Dublin\, GA 31021
UID:e.1934.1298
SEQUENCE:3
DTSTAMP:20260419T191054Z
URL:https://business.dublin-georgia.com/events/details/17th-annual-membership-appreciation-mini-trade-show-1298
END:VEVENT

END:VCALENDAR
