BEGIN:VCALENDAR
VERSION:2.0
PRODID:-//ChamberMaster//Event Calendar 2.0//EN
METHOD:PUBLISH
X-PUBLISHED-TTL:P3D
REFRESH-INTERVAL:P3D
CALSCALE:GREGORIAN
BEGIN:VEVENT
DTSTART:20181107T000000Z
DTEND:20181107T020000Z
X-MICROSOFT-CDO-ALLDAYEVENT:FALSE
SUMMARY:2018 Annual Teen Challenge Banquet
DESCRIPTION:Join us for our 2018 annual Teen Challenge Dublin Banquet! This year's theme is "Alive" to celebrate our students as they come alive in Christ.\n\n \n\nTo register visit: www.AliveTCSEDublin.eventbrite.com
X-ALT-DESC;FMTTYPE=text/html:<span style="font-family:helvetica neue"><strong>Join us for our 2018 annual Teen Challenge Dublin Banquet! This year&#39\;s theme is &quot\;Alive&quot\; to celebrate our students as they come alive in Christ.</strong></span><br />\n&nbsp\;<br />\n<span style="font-family:helvetica neue"><strong>To register visit:&nbsp\;<a href="http://www.alivetcsedavie.eventbrite.com/" style="color:rgb(17\, 85\, 204)\;" target="_blank">www.AliveTCSEDublin.eventbrite.com</a></strong></span>\n<div>&nbsp\;</div>\n
LOCATION:
UID:e.1934.1310
SEQUENCE:3
DTSTAMP:20260419T191215Z
URL:https://business.dublin-georgia.com/events/details/2018-annual-teen-challenge-banquet-1310
END:VEVENT

END:VCALENDAR
