BEGIN:VCALENDAR
VERSION:2.0
PRODID:-//ChamberMaster//Event Calendar 2.0//EN
METHOD:PUBLISH
X-PUBLISHED-TTL:P3D
REFRESH-INTERVAL:P3D
CALSCALE:GREGORIAN
BEGIN:VEVENT
DTSTART:20180510T160000Z
DTEND:20180510T170000Z
X-MICROSOFT-CDO-ALLDAYEVENT:FALSE
SUMMARY:2018 Legislative "Hot Topics" Discussed
DESCRIPTION:State Senator Larry Walker\, III and State Representative Matt Hatchett will share "Hot Topics" discussed during the 2018 Legislative Session.\n\n\n\n\n\nA light lunch will be provided.\n\n\n\nLast Day For Registration is May 8th.
X-ALT-DESC;FMTTYPE=text/html:<br />\n<span style="font-size:16px\;"><strong>State Senator Larry Walker\, III and State Representative Matt Hatchett will share &quot\;Hot Topics&quot\; discussed during the 2018 Legislative Session.</strong></span><br />\n<br />\n<br />\n<strong><span style="font-size:16px\;">A light&nbsp\;lunch will be provided.<br />\n<br />\nLast Day For Registration is May 8th.</span></strong>
LOCATION:McGrath Keen Sr. Conference Center 1200 Bellevue Avenue\, Ste. B Dublin\, GA 31021
UID:e.1934.1280
SEQUENCE:3
DTSTAMP:20260420T043026Z
URL:https://business.dublin-georgia.com/events/details/2018-legislative-hot-topics-discussed-1280
END:VEVENT

END:VCALENDAR
