BEGIN:VCALENDAR
VERSION:2.0
PRODID:-//ChamberMaster//Event Calendar 2.0//EN
METHOD:PUBLISH
X-PUBLISHED-TTL:P3D
REFRESH-INTERVAL:P3D
CALSCALE:GREGORIAN
BEGIN:VEVENT
DTSTART:20180313T120000Z
DTEND:20180313T130000Z
X-MICROSOFT-CDO-ALLDAYEVENT:FALSE
SUMMARY:35th Annual Irish Chamber Breakfast - SOLD OUT!
DESCRIPTION:~ SOLD OUT! ~\n\n\n\n\n\nThe 35th  Annual Irish Chamber Breakfast is an official St. Patrick's Event and is sponsored  by  Morris Bank. Guest speaker and entertainment this year will be Scott Brantley\, Country Music Singer and  Song Writer.\n\n\n\nTables Purchased By:\n\nACS Cleaning Services\n\nAgGeorgia Farm Credit\n\nAtlantic South Bank\n\nBank of Dudley\n\nBass Physical Therapy & Rehab Services\n\nBMC-#7020\n\nCarl Vinson VA Medical Center\n\nCitizens Bank of Laurens County\n\nCity of Dublin\n\nCommunity Bank of Dublin-Laurens County\n\nCourier Herald\n\nDublin Chevrolet/Nissan/GMC/Buick\n\nDublin-Laurens County Chamber of Commerce\n\nDublin-Laurens County Development Authority\n\nFairview Park Hospital\n\nFirst Laurens Bank\n\nMorris Bank\n\nNichols\, Cauley & Associates\n\nOrr Insurance Agency\n\nPremier Properties of Dublin\n\nSerenity Hospice Care\n\nSt. Patrick's Festival Committee\n\nTJS Deemer Dana LLP\n\nYKK AP America\n\n\n\nIndividual tickets purchase will be seated in open seating.
X-ALT-DESC;FMTTYPE=text/html:<span style="color:#FF0000\;"><span style="font-size: 20px\;"><span style="font-family: comic\\ sans\\ ms\;"><strong>&nbsp\;&nbsp\;&nbsp\;&nbsp\;&nbsp\;&nbsp\;&nbsp\;&nbsp\;&nbsp\;&nbsp\;&nbsp\;&nbsp\;<br />\n&nbsp\;&nbsp\;&nbsp\;&nbsp\;&nbsp\;&nbsp\;&nbsp\;&nbsp\;&nbsp\;&nbsp\;&nbsp\;&nbsp\;&nbsp\;<span style="font-size:22px\;"> ~ SOLD OUT! ~</span></strong></span></span></span><br />\n<br />\n<br />\nThe 35th&nbsp\; Annual Irish Chamber Breakfast is an official St. Patrick&#39\;s Event and is sponsored&nbsp\; by&nbsp\; <strong>Morris Bank</strong>. Guest speaker and entertainment this year will be Scott Brantley\, Country Music&nbsp\;Singer and&nbsp\; Song Writer.<br />\n<br />\nTables Purchased By:<br />\nACS Cleaning Services<br />\nAgGeorgia Farm Credit<br />\nAtlantic South Bank<br />\nBank of Dudley<br />\nBass Physical Therapy &amp\; Rehab Services<br />\nBMC-#7020<br />\nCarl Vinson VA Medical Center<br />\nCitizens Bank of Laurens County<br />\nCity of Dublin<br />\nCommunity Bank of Dublin-Laurens County<br />\nCourier Herald<br />\nDublin Chevrolet/Nissan/GMC/Buick<br />\nDublin-Laurens County Chamber of Commerce<br />\nDublin-Laurens County Development Authority<br />\nFairview Park Hospital<br />\nFirst Laurens Bank<br />\nMorris Bank<br />\nNichols\, Cauley &amp\; Associates<br />\nOrr Insurance Agency<br />\nPremier Properties of Dublin<br />\nSerenity Hospice Care<br />\nSt. Patrick&#39\;s Festival Committee<br />\nTJS Deemer Dana LLP<br />\nYKK AP America<br />\n<br />\nIndividual tickets purchase will be seated in open seating.<br />\n&nbsp\;
LOCATION:Dublin Country Club 689 Country Club Road Dublin\, GA 31021
UID:e.1934.1270
SEQUENCE:3
DTSTAMP:20260420T055707Z
URL:https://business.dublin-georgia.com/events/details/35th-annual-irish-chamber-breakfast-sold-out-1270
END:VEVENT

END:VCALENDAR
