BEGIN:VCALENDAR
VERSION:2.0
PRODID:-//ChamberMaster//Event Calendar 2.0//EN
METHOD:PUBLISH
X-PUBLISHED-TTL:P3D
REFRESH-INTERVAL:P3D
CALSCALE:GREGORIAN
BEGIN:VEVENT
DTSTART:20190312T120000Z
DTEND:20190312T130000Z
X-MICROSOFT-CDO-ALLDAYEVENT:FALSE
SUMMARY:36th Annual Irish Chamber Breakfast - SOLD OUT
DESCRIPTION:SOLD OUT! The 36th  Annual Irish Chamber Breakfast is an official St. Patrick's Event and is sponsored  by  Morris Bank. Guest speaker\, Frank Malloy\, 13WMAZ News Anchor.
X-ALT-DESC;FMTTYPE=text/html:<span style="color: rgb(51\, 51\, 51)\; font-family: sans-serif\, Arial\, Verdana\, &quot\;Trebuchet MS&quot\;\; font-size: 13px\; background-color: rgb(255\, 255\, 255)\;"><span style="font-size:18px\;"><strong>SOLD OUT!</strong></span> The 36th&nbsp\; Annual Irish Chamber Breakfast is an official <a href="http://www.dublinstpatricks.com/">St. Patrick&#39\;s Event</a> and is sponsored&nbsp\; by&nbsp\;&nbsp\;</span><a href="https://www.morris.bank"><strong style="color: rgb(51\, 51\, 51)\; font-family: sans-serif\, Arial\, Verdana\, &quot\;Trebuchet MS&quot\;\; font-size: 13px\;">Morris Bank</strong></a><span style="color: rgb(51\, 51\, 51)\; font-family: sans-serif\, Arial\, Verdana\, &quot\;Trebuchet MS&quot\;\; font-size: 13px\; background-color: rgb(255\, 255\, 255)\;">. Guest speaker\, Frank Malloy\, 13WMAZ News Anchor.</span>
LOCATION:Dublin Country Club 689 Country Club Road Dublin\, GA 31021
UID:e.1934.1373
SEQUENCE:3
DTSTAMP:20260419T124257Z
URL:https://business.dublin-georgia.com/events/details/36th-annual-irish-chamber-breakfast-sold-out-1373
END:VEVENT

END:VCALENDAR
