BEGIN:VCALENDAR
VERSION:2.0
PRODID:-//ChamberMaster//Event Calendar 2.0//EN
METHOD:PUBLISH
X-PUBLISHED-TTL:P3D
REFRESH-INTERVAL:P3D
CALSCALE:GREGORIAN
BEGIN:VEVENT
DTSTART:20180607T160000Z
DTEND:20180607T223000Z
X-MICROSOFT-CDO-ALLDAYEVENT:FALSE
SUMMARY:43rd Annual Industry Appreciation Golf Tournament
DESCRIPTION:This year's tournament to feature a $500 toss for cash (one guaranteed winner).  For this contest\, your pitching arm will be more valuable than your pitching wedge. A chance to win $100 with your best put\, and a $100 on each of the Par Three holes!\n\n\n\nSomething new this year will be the "Man Hole" sponsored by ServiceMaster of Middle Georgia!  Stay tuned for more information on this one!!!\n\n\n\nHole Sponsors - Get your game on! You will have the opportunity to win the "Tee Box Champion" Award for the best Hole Sponsor presentation - $250 cash!\n\n\n\nSOLD OUT!
X-ALT-DESC;FMTTYPE=text/html:<span style="font-family: tahoma\, sans-serif\;">This year&#39\;s tournament to feature a $500 toss for cash (one guaranteed winner).&nbsp\; For this contest\, your pitching arm will be more valuable than your pitching wedge. A chance to win $100 with your best put\, and a $100 on each of the Par Three holes!<br />\n<br />\nSomething new this year will be the &quot\;Man Hole&quot\; sponsored by ServiceMaster of Middle Georgia!&nbsp\; Stay tuned for more information on this one!!!</span><br />\n<br />\nHole Sponsors - Get your game on! You will have the opportunity to win the &quot\;Tee Box Champion&quot\; Award for the best Hole Sponsor presentation - $250 cash!<br />\n<br />\n<span style="font-size:16px\;"><strong>SOLD OUT!</strong></span>
LOCATION:Dublin Country Club 689 Country Club Road Dublin\, GA 31021
UID:e.1934.1279
SEQUENCE:3
DTSTAMP:20260420T025828Z
URL:https://business.dublin-georgia.com/events/details/43rd-annual-industry-appreciation-golf-tournament-1279
END:VEVENT

END:VCALENDAR
