BEGIN:VCALENDAR
VERSION:2.0
PRODID:-//ChamberMaster//Event Calendar 2.0//EN
METHOD:PUBLISH
X-PUBLISHED-TTL:P3D
REFRESH-INTERVAL:P3D
CALSCALE:GREGORIAN
BEGIN:VEVENT
DTSTART:20180126T233000Z
DTEND:20180127T033000Z
X-MICROSOFT-CDO-ALLDAYEVENT:FALSE
SUMMARY:65th Dublin-Laurens County Chamber Membership Annual Meeting - Dublin-Laurens County "Rocks"!
DESCRIPTION:SOLD OUT!\n\n65th Dublin-Laurens County Chamber Membership Annual Meeting - Dublin-Laurens County "Rocks"!\n\n\n\nDress in your favorite 50's attire and join us for a night of celebration\, awards\, awesome food\, dancing and entertainment!\n\n\n\nRock'n Reception Sponsor\n\nThe Sack Company and SCM\, Inc.\n\n\n\nRock Star Sponsors\n\nCurry Companies\n\nCurry Maffett Insurance\n\nErdrich USA\, Inc.\n\nMedical Center\n\n\n\n"Cool" Table Sponsors\n\nAddington Place at Dublin\n\nBank of Dudley\n\nBass Physical Therapy & Rehab Services\n\nCapital City Bank\n\nCentury 21 - Durden & Kornegay\n\nChristian\, Kelly\, Thigpen & Co.\n\nCingo\n\nCitizens Bank of Laurens County\n\nCity of Dublin\n\nCourier Herald\n\nDublin Chevrolet\, Nissan\, GMC\, Buick\n\nDublin Ford Lincoln\n\nDublin Women's Center - Dr. Mark Boles\, MD\n\nDublin-Laurens Development Authority\n\nDuncan Tire Company\n\nFairview Park Hospital\n\nFarmers State Bank\n\nFirst Laurens Bank\n\nFlexsteel Industries\n\nGA Power Company\n\nGarrett Fence Company\n\nGayco Healthcare\n\nGovStrive\n\nHampton Inn & Suites by Hilton - Dublin\, GA\n\nJ.T. Hanna\n\nLarry Dean\, Sheriff's Department\n\nLittle House Self Storage\n\nMiddle Georgia Mechanical\n\nMiddle GA State University\n\nMorris Bank\n\nNichols\, Cauley & Associates LLC\n\nOconee Fall Line Technical College\n\nRhino USA\, Inc.\n\nTJS Deemer Dana LLP
X-ALT-DESC;FMTTYPE=text/html:<span style="font-size:20px\;"><span style="font-family: verdana\;"><span style="font-size:16px\;"><strong>&nbsp\;&nbsp\;&nbsp\;&nbsp\;&nbsp\;&nbsp\;&nbsp\;&nbsp\;&nbsp\;&nbsp\;&nbsp\;&nbsp\;&nbsp\;&nbsp\;&nbsp\;&nbsp\;&nbsp\;&nbsp\;&nbsp\;&nbsp\;&nbsp\;&nbsp\;&nbsp\;&nbsp\;&nbsp\;&nbsp\;&nbsp\; SOLD OUT!</strong><br />\n65th Dublin-Laurens County Chamber Membership Annual Meeting - Dublin-Laurens County &quot\;Rocks&quot\;!</span><br />\n<br />\n<span style="font-size:16px\;">Dress in your favorite 50&#39\;s attire and join us for a night of celebration\, awards\, awesome food\, dancing and entertainment!</span><br />\n<br />\n<strong><span style="font-size:16px\;">Rock&#39\;n Reception Sponsor</span></strong><br />\n<span style="font-size:16px\;">The Sack Company and SCM\, Inc.</span><br />\n<br />\n<strong><span style="font-size:16px\;">Rock Star Sponsors</span></strong><br />\n<span style="font-size:16px\;">C</span></span></span><span style="font-size:20px\;"><span style="font-family: verdana\;"><span style="font-size:16px\;">urry Companies<br />\nCurry Maffett Insurance<br />\nErdrich USA\, Inc.<br />\nMedical Center</span></span></span><br />\n<br />\n<span style="font-size:20px\;"><span style="font-family: verdana\;"><strong><span style="font-size:16px\;">&quot\;Cool&quot\; Table Sponsors</span></strong><br />\n<span style="font-size:16px\;">Addington Place at Dublin</span><br />\n<span style="font-size:16px\;">Bank of Dudley<br />\nBass Physical Therapy &amp\; Rehab Services<br />\nCapital City Bank<br />\nCentury 21 - Durden &amp\; Kornegay<br />\nChristian\, Kelly\, Thigpen &amp\; Co.<br />\nCingo<br />\nCitizens Bank of Laurens County<br />\nCity of Dublin<br />\nCourier Herald<br />\nDublin Chevrolet\, Nissan\, GMC\, Buick<br />\nDublin Ford Lincoln<br />\nDublin Women&#39\;s Center - Dr. Mark Boles\, MD<br />\nDublin-Laurens Development Authority<br />\nDuncan Tire Company<br />\nFairview Park Hospital<br />\nFarmers State Bank<br />\nFirst Laurens Bank<br />\nFlexsteel Industries<br />\nGA Power Company<br />\nGarrett Fence Company<br />\nGayco Healthcare<br />\nGovStrive<br />\nHampton Inn &amp\; Suites by Hilton - Dublin\, GA<br />\nJ.T. Hanna</span><br />\n<span style="font-size:16px\;">Larry Dean\, Sheriff&#39\;s Department</span><br />\n<span style="font-size:16px\;">Little House Self Storage<br />\nMiddle Georgia Mechanical<br />\nMiddle GA State University<br />\nMorris Bank<br />\nNichols\, Cauley &amp\; Associates LLC<br />\nOconee Fall Line Technical College<br />\nRhino USA\, Inc.<br />\nTJS Deemer Dana LLP</span></span></span><br />\n<br />\n<br />\n<br />\n<br />\n&nbsp\;
LOCATION:DuBose Porter Center 560 Pinehill Road Dublin\, GA 31021
UID:e.1934.1258
SEQUENCE:3
DTSTAMP:20260420T092444Z
URL:https://business.dublin-georgia.com/events/details/65th-dublin-laurens-county-chamber-membership-annual-meeting-dublin-laurens-county-rocks-1258
END:VEVENT

END:VCALENDAR
