BEGIN:VCALENDAR
VERSION:2.0
PRODID:-//ChamberMaster//Event Calendar 2.0//EN
METHOD:PUBLISH
X-PUBLISHED-TTL:P3D
REFRESH-INTERVAL:P3D
CALSCALE:GREGORIAN
BEGIN:VEVENT
DTSTART:20180406T113000Z
DTEND:20180406T130000Z
X-MICROSOFT-CDO-ALLDAYEVENT:FALSE
SUMMARY:April - First Friday Means Business 2018
DESCRIPTION:First Friday Means Business the Dublin-Laurens County Chamber's informative monthly breakfast meeting. This event features a key-note speaker who addresses issues of interest to the community as well as updates from the city\, county\, chamber and from the breakfast sponsor.  The breakfast will be held at Middle Georgia State University - Dublin Campus from 7:30  9:00 a.m. on the first Friday of each month and will be attended by many of the Dublin-Laurens County top business managers and leaders.\n\n\n\nProgram:  IOT- Internet of Things - How IOT Impacts Business\n\n\n\nGuest Speaker:\n\nSteve Justice\n\nExecutive Director - Centers of Innovation\n\nGeorgia Department of Economic Development\n\n\n\nOther guest speakers on our program include Cherise Blackwell\, Dublin-Laurens County Land Bank\, County Talk\, Chamber Talk and Dwayne Edge\, Middle Georgia Mechanical\, Sponsor Talk.
X-ALT-DESC;FMTTYPE=text/html:<span century="" style="color: rgb(51\, 51\, 51)\; font-size: 13px\; font-family: "><span style="font-size: 12pt\;"><strong>First Friday&nbsp\;<em>Means</em>&nbsp\;Business&nbsp\;</strong>the Dublin-Laurens County Chamber&#39\;s informative monthly breakfast meeting. This event features a key-note speaker who addresses issues of interest to the community as well as updates from the city\, county\, chamber and from the breakfast sponsor.&nbsp\; The breakfast will be held at Middle Georgia State University -&nbsp\;Dublin Campus from 7:30&nbsp\; 9:00 a.m. on the first Friday of each month and will be attended by many of the Dublin-Laurens County top business managers and leaders.</span></span><br />\n<br />\n<span style="font-size:18px\;"><strong>Program:&nbsp\; IOT- Internet of Things - How IOT Impacts Business</strong></span><br />\n<br font-size:="" style="color: rgb(51\, 51\, 51)\; font-family: sans-serif\, Arial\, Verdana\, " trebuchet="" />\n<a href="http://www.georgia.org/about-us/executive-leadership-profiles/executive-director-georgia-centers-innovation/"><span style="font-size: 14px\;"><b>Guest Speaker:</b></span><br />\n<span style="font-size: 14px\;"><b>Steve Justice<br />\nExecutive Director - Centers of Innovation<br />\nGeorgia Department of Economic Development</b></span></a><br font-size:="" style="color: rgb(51\, 51\, 51)\; font-family: sans-serif\, Arial\, Verdana\, " trebuchet="" />\n<br font-size:="" style="color: rgb(51\, 51\, 51)\; font-family: sans-serif\, Arial\, Verdana\, " trebuchet="" />\n<span font-size:="" style="color: rgb(51\, 51\, 51)\; font-family: sans-serif\, Arial\, Verdana\, " trebuchet=""><span style="font-size: 18px\;"><span style="color: black\;"><span style="font-family: calibri\;">Other guest speakers on our program include Cherise Blackwell\, Dublin-Laurens County Land Bank\, County Talk\, Chamber Talk and Dwayne Edge\, Middle Georgia Mechanical\, Sponsor Talk.</span></span></span></span>
LOCATION:Middle Georgia State University - Dublin Campus Student Center 1900 Bellevue Road Dublin\, GA 31021
UID:e.1934.1276
SEQUENCE:3
DTSTAMP:20260420T043216Z
URL:https://business.dublin-georgia.com/events/details/april-first-friday-means-business-2018-1276
END:VEVENT

END:VCALENDAR
