BEGIN:VCALENDAR
VERSION:2.0
PRODID:-//ChamberMaster//Event Calendar 2.0//EN
METHOD:PUBLISH
X-PUBLISHED-TTL:P3D
REFRESH-INTERVAL:P3D
CALSCALE:GREGORIAN
BEGIN:VEVENT
DTSTART:20260818T213000Z
DTEND:20260818T230000Z
X-MICROSOFT-CDO-ALLDAYEVENT:FALSE
SUMMARY:August Business After Hours 2026
DESCRIPTION:Business After Hours\n\nHosted by Chamber member companies across the Dublin-Laurens County area\, Business After Hours offers a relaxed\, social setting for networking and relationship-building. This event is designed to foster meaningful connections and collaborations\, giving companies the opportunity to showcase their services while engaging with fellow Chamber members.\n\nJoin us to expand your network\, share ideas\, and strengthen your presence in the local business community!
X-ALT-DESC;FMTTYPE=text/html:<p class="isSelectedEnd" style="box-sizing: border-box\; margin: 0px 0px 1rem\; font-family: tahoma\, geneva\, sans-serif\; font-size: 16px\;"><span style="box-sizing: border-box\; font-weight: bolder\;">Business After Hours</span></p>\n\n<p class="isSelectedEnd" style="box-sizing: border-box\; margin: 0px 0px 1rem\; font-family: tahoma\, geneva\, sans-serif\; font-size: 16px\;">Hosted by Chamber member companies across the Dublin-Laurens County area\,&nbsp\;<span style="box-sizing: border-box\; font-weight: bolder\;">Business After Hours</span>&nbsp\;offers a relaxed\, social setting for networking and relationship-building. This event is designed to foster meaningful connections and collaborations\, giving companies the opportunity to showcase their services while engaging with fellow Chamber members.</p>\n\n<p style="box-sizing: border-box\; margin: 0px 0px 1rem\; font-family: tahoma\, geneva\, sans-serif\; font-size: 16px\;">Join us to expand your network\, share ideas\, and strengthen your presence in the local business community!</p>\n
LOCATION:
UID:e.1934.2960
SEQUENCE:3
DTSTAMP:20260425T122126Z
URL:https://business.dublin-georgia.com/events/details/august-business-after-hours-2026-2960
END:VEVENT

END:VCALENDAR
