BEGIN:VCALENDAR
VERSION:2.0
PRODID:-//ChamberMaster//Event Calendar 2.0//EN
METHOD:PUBLISH
X-PUBLISHED-TTL:P3D
REFRESH-INTERVAL:P3D
CALSCALE:GREGORIAN
BEGIN:VEVENT
DTSTART:20171201T170000Z
DTEND:20181114T170000Z
X-MICROSOFT-CDO-ALLDAYEVENT:FALSE
SUMMARY:Chamber Ambassador Program 2018
DESCRIPTION:Ambassadors have a prominent position of responsibility in the business community.  They act as the Chamber's primary liaisons for new and existing members and are highly visible at Chamber events. Ambassadors assist members by introducing them to the benefits and services of membership and by serving as a conduit for members to engage in the organization. Ambassador responsibilities include one-on-one visitations with Chamber businesses\, event networking\, and support of various programs and projects in the business community.\n\n\n\nThis premier program is sponsored by Bass Physical Therapy & Rehab Services.\n\n\n\nTo request an application contact Lauren Burge at lburge@dublin-georgia.com
X-ALT-DESC;FMTTYPE=text/html:<span style="font-size: 14px\;"><span style="font-family: tahoma\;">Ambassadors have a prominent position of responsibility in the business community.&nbsp\; They act as the Chamber&rsquo\;s primary liaisons for new and existing members and are highly visible at Chamber events. Ambassadors assist members by introducing them to the benefits and services of membership and by serving as a conduit for members to engage in the organization. Ambassador responsibilities include one-on-one visitations with Chamber businesses\, event networking\, and support of various programs and projects in the business community.<br />\n<br />\nThis premier program is sponsored by Bass Physical Therapy &amp\; Rehab Services.<br />\n<br />\nTo request an application contact Lauren Burge at <a href="mailto:lburge@dublin-georgia.com?subject=Chamber%20Ambassador%20Program%202018&amp\;body=I%20would%20like%20to%20request%20an%20application%20for%20the%20Chamber%20Ambassador%20Program%202018.">lburge@dublin-georgia.com</a></span></span><br />\n&nbsp\;
LOCATION:Meetings will be held in: McGrath Keen Sr. Conference Center 1200 Bellevue Avenue\, Ste. B Dublin\, GA 31021
UID:e.1934.1261
SEQUENCE:3
DTSTAMP:20260419T190904Z
URL:https://business.dublin-georgia.com/events/details/chamber-ambassador-program-2018-1261
END:VEVENT

END:VCALENDAR
