BEGIN:VCALENDAR
VERSION:2.0
PRODID:-//ChamberMaster//Event Calendar 2.0//EN
METHOD:PUBLISH
X-PUBLISHED-TTL:P3D
REFRESH-INTERVAL:P3D
CALSCALE:GREGORIAN
BEGIN:VEVENT
DTSTART;VALUE=DATE:20181224
DTEND;VALUE=DATE:20181226
TRANSP:TRANSPARENT
X-MICROSOFT-CDO-ALLDAYEVENT:TRUE
SUMMARY:Christmas Holiday - Office Closed
DESCRIPTION:
X-ALT-DESC;FMTTYPE=text/html:
LOCATION:
UID:e.1934.1359
SEQUENCE:3
DTSTAMP:20260419T163445Z
URL:https://business.dublin-georgia.com/events/details/christmas-holiday-office-closed-1359
END:VEVENT

END:VCALENDAR
