BEGIN:VCALENDAR
VERSION:2.0
PRODID:-//ChamberMaster//Event Calendar 2.0//EN
METHOD:PUBLISH
X-PUBLISHED-TTL:P3D
REFRESH-INTERVAL:P3D
CALSCALE:GREGORIAN
BEGIN:VEVENT
DTSTART:20180914T113000Z
DTEND:20180914T123000Z
X-MICROSOFT-CDO-ALLDAYEVENT:FALSE
SUMMARY:District Five Exchange Breakfast Networking 2018
DESCRIPTION:Business and Breakfast Networking Event- Held at member companies throughout the Dublin-Laurens County area. This event offers networking in a relaxed\, social setting. Companies host this event to showcase their business and to offer a service to their fellow chamber members. Local community updates specific to District 5 will be given.
X-ALT-DESC;FMTTYPE=text/html:<span style="font-family: sans-serif\, Arial\, Verdana\, &quot\;Trebuchet MS&quot\;\; font-size: 13px\; color: rgb(0\, 100\, 0)\;"><strong>Business and Breakfast</strong></span><span style="color: rgb(51\, 51\, 51)\; font-family: sans-serif\, Arial\, Verdana\, &quot\;Trebuchet MS&quot\;\; font-size: 13px\; background-color: rgb(255\, 255\, 255)\;">&nbsp\;</span><span style="font-family: sans-serif\, Arial\, Verdana\, &quot\;Trebuchet MS&quot\;\; font-size: 13px\; color: rgb(0\, 100\, 0)\;"><strong>Networking Event</strong></span><span style="color: rgb(51\, 51\, 51)\; font-family: sans-serif\, Arial\, Verdana\, &quot\;Trebuchet MS&quot\;\; font-size: 13px\; background-color: rgb(255\, 255\, 255)\;">- Held at member companies throughout the Dublin-Laurens County area. This event offers networking in a relaxed\, social setting. Companies host this event to showcase their business and to offer a service to their fellow chamber members. Local community updates specific to District 5 will be given.</span>
LOCATION:Bank of Dudley 101 Savannah Avenue East Dublin\, GA 31027
UID:e.1934.1303
SEQUENCE:3
DTSTAMP:20260419T222846Z
URL:https://business.dublin-georgia.com/events/details/district-five-exchange-breakfast-networking-2018-1303
END:VEVENT

END:VCALENDAR
