BEGIN:VCALENDAR
VERSION:2.0
PRODID:-//ChamberMaster//Event Calendar 2.0//EN
METHOD:PUBLISH
X-PUBLISHED-TTL:P3D
REFRESH-INTERVAL:P3D
CALSCALE:GREGORIAN
BEGIN:VEVENT
DTSTART:20180220T223000Z
DTEND:20180221T000000Z
X-MICROSOFT-CDO-ALLDAYEVENT:FALSE
SUMMARY:February Business After Hours 2018
DESCRIPTION:Business After Hours- Held at member companies throughout the Dublin-Laurens County area. These events offer networking in a relaxed\, social setting. Companies host these events to showcase their business and to offer a service to their fellow chamber members.
X-ALT-DESC;FMTTYPE=text/html:<span style="color: rgb(0\, 100\, 0)\;"><strong>Business After Hours</strong></span>- Held at member companies throughout the Dublin-Laurens County area. These events offer networking in a relaxed\, social setting. Companies host these events to showcase their business and to offer a service to their fellow chamber members.
LOCATION:Fairview Fitness Center 200 Industrial Blvd. Dublin\, GA 31021
UID:e.1934.1260
SEQUENCE:3
DTSTAMP:20260420T074118Z
URL:https://business.dublin-georgia.com/events/details/february-business-after-hours-2018-1260
END:VEVENT

END:VCALENDAR
