BEGIN:VCALENDAR
VERSION:2.0
PRODID:-//ChamberMaster//Event Calendar 2.0//EN
METHOD:PUBLISH
X-PUBLISHED-TTL:P3D
REFRESH-INTERVAL:P3D
CALSCALE:GREGORIAN
BEGIN:VEVENT
DTSTART:20180202T123000Z
DTEND:20180202T140000Z
X-MICROSOFT-CDO-ALLDAYEVENT:FALSE
SUMMARY:February - First Friday Means Business 2018
DESCRIPTION:"First Friday Means Business" the Dublin-Laurens County Chamber's informative monthly breakfast meeting. This event features a key-note speaker who addresses issues of interest to the community as well as updates from the city\, county\, chamber and from the breakfast sponsor.  The breakfast will be held at Middle Georgia State University - Dublin Campus from 7:30   9:00 a.m. on the first Friday of each month and will be attended by many of the Dublin-Laurens County top business managers and leaders.\n\n\n\nProgram:  Washington Update on Tax Plan\n\nGuest Speaker: Martha Zoller\, Office of Senator David Perdue\, State Policy Director\n\n\n\n\n\n\n\nGuest speakers on our program include Lance Jones\, City of Dublin\; Bryan Rogers\, Laurens County Commission\;  Randy Jackson\,Chamber of Commerce Representative\; and John Engler\, Dublin Mall.
X-ALT-DESC;FMTTYPE=text/html:<span style="font-family: century gothic\,sans-serif\;"><span style="font-size: 12pt\;"><strong>&ldquo\;First Friday <em>Means</em> Business&rdquo\; </strong>the Dublin-Laurens County Chamber&rsquo\;s informative monthly breakfast meeting. This event features a key-note speaker who addresses issues of interest to the community as well as updates from the city\, county\, chamber and from the breakfast sponsor.&nbsp\; The breakfast will be held at Middle Georgia State University - Dublin Campus from 7:30 &ndash\; 9:00 a.m. on the first Friday of each month and will be attended by many of the Dublin-Laurens County top business managers and leaders.<br />\n<br />\n<strong>Program:&nbsp\; Washington Update on Tax Plan<br />\nGuest Speaker: Martha Zoller\, Office of Senator David Perdue\, State Policy Director</strong></span></span><br />\n<br />\n<br />\n<br />\n<span style="font-size: 20px\;"><span style="font-size: 18px\;"><span style="color: black\;"><span style="font-family: calibri\;">Guest speakers on our program include Lance Jones\, City of Dublin\; Bryan Rogers\, Laurens County Commission\;&nbsp\;</span></span></span></span><span style="font-size: 20px\;"><span style="font-size: 18px\;"><span style="color: black\;"><span style="font-family: calibri\;"> </span></span></span></span><span style="font-size: 20px\;"><span style="font-size: 18px\;"><span style="color: black\;"><span style="font-family: calibri\;">Randy Jackson\,Chamber</span></span></span></span><span style="font-size: 20px\;"><span style="font-size: 18px\;"><span style="color: black\;"><span style="font-family: calibri\;"> of Commerce Representative\; and John Engler\,&nbsp\;Dublin Mall.</span></span></span></span>
LOCATION:Middle Georgia State University - Dublin Campus Student Center 1900 Bellevue Road Dublin\, GA 31021
UID:e.1934.1263
SEQUENCE:3
DTSTAMP:20260420T074125Z
URL:https://business.dublin-georgia.com/events/details/february-first-friday-means-business-2018-1263
END:VEVENT

END:VCALENDAR
