BEGIN:VCALENDAR
VERSION:2.0
PRODID:-//ChamberMaster//Event Calendar 2.0//EN
METHOD:PUBLISH
X-PUBLISHED-TTL:P3D
REFRESH-INTERVAL:P3D
CALSCALE:GREGORIAN
BEGIN:VEVENT
DTSTART:20190201T123000Z
DTEND:20190201T140000Z
X-MICROSOFT-CDO-ALLDAYEVENT:FALSE
SUMMARY:February First Friday Means Business 2019
DESCRIPTION:First Friday Means Business the Dublin-Laurens County Chamber's informative monthly breakfast meeting. This event features a key-note speaker who addresses issues of interest to the community as well as updates from the city\, county\, chamber and from the breakfast sponsor.  The breakfast will be held at Middle Georgia State University - Dublin Campus from 7:30  9:00 a.m. on the first Friday of each month and will be attended by many of the Dublin-Laurens County top business managers and leaders.\n\n\n\nGuest Speaker:  Brian Mallette\, Executive Director\, Dublin-Laurens County Recreation Authority.\n\n\n\nOther guest speakers:  Lance Jones\, City of Dublin\; Bryan Rogers\, Laurens County Commissioners\; Larry Schenck\, Dublin-Laurens County Chamber of Commerce and Brianna Hamby\, Dublin Mall.
X-ALT-DESC;FMTTYPE=text/html:<strong style="color: rgb(51\, 51\, 51)\; font-family: sans-serif\, Arial\, Verdana\, &quot\;Trebuchet MS&quot\;\; background-color: rgb(255\, 255\, 255)\; font-size: 16px\;">First Friday&nbsp\;<em>Means</em>&nbsp\;Business&nbsp\;</strong><span style="color: rgb(51\, 51\, 51)\; font-family: sans-serif\, Arial\, Verdana\, &quot\;Trebuchet MS&quot\;\; background-color: rgb(255\, 255\, 255)\; font-size: 16px\;">the Dublin-Laurens County Chamber&#39\;s informative monthly breakfast meeting. This event features a key-note speaker who addresses issues of interest to the community as well as updates from the city\, county\, chamber and from the breakfast sponsor.&nbsp\; The breakfast will be held at Middle Georgia State University -&nbsp\;Dublin Campus from 7:30&nbsp\; 9:00 a.m. on the first Friday of each month and will be attended by many of the Dublin-Laurens County top business managers and leaders.<br />\n<br />\nGuest Speaker:&nbsp\; Brian Mallette\, Executive Director\, Dublin-Laurens County Recreation Authority.<br />\n<br />\nOther guest speakers:&nbsp\; Lance Jones\, City of Dublin\; Bryan Rogers\, Laurens County Commissioners\; Larry Schenck\, Dublin-Laurens County Chamber of Commerce and Brianna Hamby\, Dublin Mall.</span>
LOCATION:Middle Georgia State University - Dublin Campus Student Center 1900 Bellevue Road Dublin\, GA 31021
UID:e.1934.1357
SEQUENCE:3
DTSTAMP:20260419T134942Z
URL:https://business.dublin-georgia.com/events/details/february-first-friday-means-business-2019-1357
END:VEVENT

END:VCALENDAR
