BEGIN:VCALENDAR
VERSION:2.0
PRODID:-//ChamberMaster//Event Calendar 2.0//EN
METHOD:PUBLISH
X-PUBLISHED-TTL:P3D
REFRESH-INTERVAL:P3D
CALSCALE:GREGORIAN
BEGIN:VEVENT
DTSTART:20160722T160000Z
DTEND:20170622T160000Z
X-MICROSOFT-CDO-ALLDAYEVENT:FALSE
SUMMARY:Front Page Views!
DESCRIPTION:Member Marketing Opportunity!  Place your business logo on the Chamber's Website Home Page!  Space is limited. Reserve your space today!\n\n\n\nYour Logo in jpg or png file is required.
X-ALT-DESC;FMTTYPE=text/html:Member Marketing Opportunity!&nbsp\; Place your business logo on the Chamber&#39\;s Website Home Page!&nbsp\; Space is limited. Reserve your space today!<br />\n<br />\nYour Logo in jpg or png file is required.&nbsp\;<br />\n<br />\n&nbsp\;
LOCATION:
UID:e.1934.1204
SEQUENCE:3
DTSTAMP:20260420T202954Z
URL:https://business.dublin-georgia.com/events/details/front-page-views-07-22-2016-1204
END:VEVENT

END:VCALENDAR
