BEGIN:VCALENDAR
VERSION:2.0
PRODID:-//ChamberMaster//Event Calendar 2.0//EN
METHOD:PUBLISH
X-PUBLISHED-TTL:P3D
REFRESH-INTERVAL:P3D
CALSCALE:GREGORIAN
BEGIN:VEVENT
DTSTART:20160325T230000Z
DTEND:20160326T000000Z
X-MICROSOFT-CDO-ALLDAYEVENT:FALSE
SUMMARY:Happy Hour
DESCRIPTION:HAPPY HOUR\n\n \n\nEvery Friday Night from 7pm - 8pm you buy one beer or glass of wine and get the second for half the price! \n\n \n\nCan't beat that! Bring your friends and enjoy a relaxed night at My CoffeeShop to start off the weekend right!
X-ALT-DESC;FMTTYPE=text/html:<div style="text-align:center"><span style="font-size:22.1000003814697px"><strong><u>HAPPY HOUR</u></strong></span></div>\n\n<div style="text-align:center"><span style="font-size:22.1000003814697px">&nbsp\;</span></div>\n\n<div style="text-align:center"><span style="font-size:22.1000003814697px">Every Friday Night from 7pm - 8pm you&nbsp\;<em><strong>buy one beer or glass of wine and get the second for half the price</strong></em>!&nbsp\;</span></div>\n\n<div style="text-align:center"><span style="font-size:22.1000003814697px">&nbsp\;</span></div>\n\n<div style="text-align:center"><span style="font-size:22.1000003814697px">Can&#39\;t beat that! Bring your friends and enjoy a relaxed night at My CoffeeShop to start off the weekend right!&nbsp\;</span></div>\n
LOCATION:My CoffeeShop
UID:e.1934.970
SEQUENCE:3
DTSTAMP:20260422T002130Z
URL:https://business.dublin-georgia.com/events/details/happy-hour-03-25-2016-970
END:VEVENT

END:VCALENDAR
