BEGIN:VCALENDAR
VERSION:2.0
PRODID:-//ChamberMaster//Event Calendar 2.0//EN
METHOD:PUBLISH
X-PUBLISHED-TTL:P3D
REFRESH-INTERVAL:P3D
CALSCALE:GREGORIAN
BEGIN:VEVENT
DTSTART:20190105T150000Z
DTEND:20190105T180000Z
X-MICROSOFT-CDO-ALLDAYEVENT:FALSE
SUMMARY:Helms College Open House for Macon
DESCRIPTION:You're invited to Helms College's Open House! Learn more about our Healthcare and Culinary Arts Programs Saturday\, January 5 from 10 am - 1 p.m. at our Macon Campus at 5171 Eisenhower Parkway. Enjoy tours of all of our medical rooms\, kitchens\, meet our friendly admissions team\, attend Financial Aid Q&A\, speak to industry professionals\, enjoy culinary demos and medical demos and much more! For more information visit helms.edu\, email admissions@helms.edu or call us today at 478-471-4394!
X-ALT-DESC;FMTTYPE=text/html:You&#39\;re invited to Helms College&#39\;s Open House! Learn more about our Healthcare and Culinary Arts Programs Saturday\, January 5 from 10 am - 1 p.m. at our Macon Campus at 5171 Eisenhower Parkway. Enjoy tours of all of our medical rooms\, kitchens\, meet our friendly admissions team\, attend Financial Aid Q&amp\;A\, speak to industry professionals\, enjoy culinary demos and medical demos and much more! For more information visit helms.edu\, email admissions@helms.edu or call us today at 478-471-4394!
LOCATION:Helms College (Macon Campus) 5171 Eisenhower Parkway\, Macon\, Georgia 31206
UID:e.1934.1367
SEQUENCE:3
DTSTAMP:20260419T163434Z
URL:https://business.dublin-georgia.com/events/details/helms-college-open-house-for-macon-1367
END:VEVENT

END:VCALENDAR
