BEGIN:VCALENDAR
VERSION:2.0
PRODID:-//ChamberMaster//Event Calendar 2.0//EN
METHOD:PUBLISH
X-PUBLISHED-TTL:P3D
REFRESH-INTERVAL:P3D
CALSCALE:GREGORIAN
BEGIN:VEVENT
DTSTART:20190308T210000Z
DTEND:20190309T210000Z
X-MICROSOFT-CDO-ALLDAYEVENT:FALSE
SUMMARY:Irish Balloon Fest & Glow
DESCRIPTION:Irish Balloon Fest & Glow\n\nBalloon Rides $200\n\nTethered Rides $10\n\nFriday Night Movie: UP - Sponsored by DLCRA\n\nSaturday Night Band: Free Spirit Orchestra\n\n\n\nAll events are weather permitting. Kids rides\, St. Patrick's Souvenirs\, Food and Drinks will be for sale.\n\nFacebook:  Irish Balloon Festival-Dublin\,GA for updates
X-ALT-DESC;FMTTYPE=text/html:Irish Balloon Fest &amp\; Glow<br />\nBalloon Rides $200<br />\nTethered Rides $10<br />\nFriday Night Movie: UP - Sponsored by DLCRA<br />\nSaturday Night Band: Free Spirit Orchestra<br />\n<br />\nAll events are weather permitting. Kids rides\, St. Patrick&#39\;s Souvenirs\, Food and Drinks will be for sale.<br />\nFacebook:&nbsp\; Irish Balloon Festival-Dublin\,GA for updates
LOCATION:Southern Pines Regional Park 575 Southern Pines Road Dublin\, GA 31021
UID:e.1934.1391
SEQUENCE:3
DTSTAMP:20260419T124334Z
URL:https://business.dublin-georgia.com/events/details/irish-balloon-fest-glow-1391
END:VEVENT

END:VCALENDAR
