BEGIN:VCALENDAR
VERSION:2.0
PRODID:-//ChamberMaster//Event Calendar 2.0//EN
METHOD:PUBLISH
X-PUBLISHED-TTL:P3D
REFRESH-INTERVAL:P3D
CALSCALE:GREGORIAN
BEGIN:VEVENT
DTSTART:20180619T213000Z
DTEND:20180619T230000Z
X-MICROSOFT-CDO-ALLDAYEVENT:FALSE
SUMMARY:June Business After Hours 2018
DESCRIPTION:Business After Hours- Held at member companies throughout the Dublin-Laurens County area. These events offer networking in a relaxed\, social setting. Companies host these events to showcase their business and to offer a service to their fellow chamber members.
X-ALT-DESC;FMTTYPE=text/html:<span style="font-family: sans-serif\, Arial\, Verdana\, &quot\;Trebuchet MS&quot\;\; font-size: 13px\; color: rgb(0\, 100\, 0)\;"><strong>Business After Hours</strong></span><span style="color: rgb(51\, 51\, 51)\; font-family: sans-serif\, Arial\, Verdana\, &quot\;Trebuchet MS&quot\;\; font-size: 13px\; background-color: rgb(255\, 255\, 255)\;">- Held at member companies throughout the Dublin-Laurens County area. These events offer networking in a relaxed\, social setting. Companies host these events to showcase their business and to offer a service to their fellow chamber members.</span><br />\n<br />\n<br />\n<br />\n&nbsp\;
LOCATION:Market on Madison 314 West Madison Street Dublin\, GA 31021
UID:e.1934.1284
SEQUENCE:3
DTSTAMP:20260420T025405Z
URL:https://business.dublin-georgia.com/events/details/june-business-after-hours-2018-1284
END:VEVENT

END:VCALENDAR
