BEGIN:VCALENDAR
VERSION:2.0
PRODID:-//ChamberMaster//Event Calendar 2.0//EN
METHOD:PUBLISH
X-PUBLISHED-TTL:P3D
REFRESH-INTERVAL:P3D
CALSCALE:GREGORIAN
BEGIN:VEVENT
DTSTART:20180601T113000Z
DTEND:20180601T130000Z
X-MICROSOFT-CDO-ALLDAYEVENT:FALSE
SUMMARY:June First Friday Means Business 2018
DESCRIPTION:First Friday Means Business the Dublin-Laurens County Chamber's informative monthly breakfast meeting. This event features a key-note speaker who addresses issues of interest to the community as well as updates from the city\, county\, chamber and from the breakfast sponsor.  The breakfast will be held at Middle Georgia State University - Dublin Campus from 7:30  9:00 a.m. on the first Friday of each month and will be attended by many of the Dublin-Laurens County top business managers and leaders.\n\n\n\nProgram: Hitting a High Note\n\nRebecca McWilliam\, Executive Director\, Visit Dublin\, GA\n\n\n\nOther guest speakers on our program include Lance Jones\, City of Dublin\; Bryan Rogers\, Laurens County Commission\; Troy Windham\, Dublin-Laurens County Chamber of Commerce and Don Copeland\, Serenity Hospice.
X-ALT-DESC;FMTTYPE=text/html:<strong style="color: rgb(51\, 51\, 51)\; font-family: sans-serif\, Arial\, Verdana\, &quot\;Trebuchet MS&quot\;\; background-color: rgb(255\, 255\, 255)\; font-size: 16px\;">First Friday&nbsp\;<em>Means</em>&nbsp\;Business&nbsp\;</strong><span style="color: rgb(51\, 51\, 51)\; font-family: sans-serif\, Arial\, Verdana\, &quot\;Trebuchet MS&quot\;\; background-color: rgb(255\, 255\, 255)\; font-size: 16px\;">the Dublin-Laurens County Chamber&#39\;s informative monthly breakfast meeting. This event features a key-note speaker who addresses issues of interest to the community as well as updates from the city\, county\, chamber and from the breakfast sponsor.&nbsp\; The breakfast will be held at Middle Georgia State University -&nbsp\;Dublin Campus from 7:30&nbsp\; 9:00 a.m. on the first Friday of each month and will be attended by many of the Dublin-Laurens County top business managers and leaders.<br />\n<br />\n<strong>Program: Hitting a High Note<br />\nRebecca McWilliam\, Executive Director\, Visit Dublin\, GA</strong></span><br />\n<br />\n<strong style="color: rgb(51\, 51\, 51)\; font-family: sans-serif\, Arial\, Verdana\, &quot\;Trebuchet MS&quot\;\; font-size: 14px\; background-color: rgb(255\, 255\, 255)\;">Other guest speakers on our program include Lance Jones\, City of Dublin\; Bryan Rogers\, Laurens County Commission\; Troy Windham\, Dublin-Laurens County Chamber of Commerce and Don Copeland\, Serenity Hospice.</strong>
LOCATION:Middle Georgia State University - Dublin Campus Student Center 1900 Bellevue Road Dublin\, GA 31021
UID:e.1934.1297
SEQUENCE:3
DTSTAMP:20260420T013115Z
URL:https://business.dublin-georgia.com/events/details/june-first-friday-means-business-2018-1297
END:VEVENT

END:VCALENDAR
