BEGIN:VCALENDAR
VERSION:2.0
PRODID:-//ChamberMaster//Event Calendar 2.0//EN
METHOD:PUBLISH
X-PUBLISHED-TTL:P3D
REFRESH-INTERVAL:P3D
CALSCALE:GREGORIAN
BEGIN:VEVENT
DTSTART:20170225T133000Z
DTEND:20170225T150000Z
X-MICROSOFT-CDO-ALLDAYEVENT:FALSE
SUMMARY:Legislative Update 2017
DESCRIPTION:This event features keynote speakers (confirmed)\, U.S. Congressman Rick Allen\; State Senator Larry Walker\, III\; State Representative Matt Hatchett\;  U.S. Senator Johnny Isakson or representative\; U.S. Senator David Perdue or representative who will address issues of interest to the community as well as updates fro the State and our nation.
X-ALT-DESC;FMTTYPE=text/html:<span style="font-size:16px\;"><span style="font-family: tahoma\;">This event features keynote speakers (confirmed)\, U.S. Congressman Rick Allen\; State Senator Larry Walker\, III\; State Representative Matt Hatchett\;&nbsp\; U.S. Senator Johnny Isakson or representative\; U.S. Senator David Perdue or representative who will address issues of interest to the community as well as updates fro the State and our nation.</span></span>
LOCATION:McGrath Keen Sr. Conference Center 1200 Bellevue Avenue\, Ste. B Dublin\, GA 31021
UID:e.1934.1220
SEQUENCE:3
DTSTAMP:20260421T031231Z
URL:https://business.dublin-georgia.com/events/details/legislative-update-2017-1220
END:VEVENT

END:VCALENDAR
