BEGIN:VCALENDAR
VERSION:2.0
PRODID:-//ChamberMaster//Event Calendar 2.0//EN
METHOD:PUBLISH
X-PUBLISHED-TTL:P3D
REFRESH-INTERVAL:P3D
CALSCALE:GREGORIAN
BEGIN:VEVENT
DTSTART:20150718T230000Z
DTEND:20150719T010000Z
X-MICROSOFT-CDO-ALLDAYEVENT:FALSE
SUMMARY:Live Music with Joshua Turner
DESCRIPTION:Live Music Performance\n\nwith \n\nJoshua Turner \n\n \n\nSaturday\, the 18th of July from 7pm to 9pm we will have this amazing talent performing at My CoffeeShop. \n\n \n\nGrab a glass of wine\, lean back and enjoy this great entertainment! \n\n \n\nCheck out Joshua's Music at www.joshuasmusic.com
X-ALT-DESC;FMTTYPE=text/html:<div style="text-align:center"><strong>Live Music Performance</strong></div>\n\n<div style="text-align:center">with&nbsp\;</div>\n\n<div style="text-align:center">Joshua Turner&nbsp\;</div>\n\n<div style="text-align:center">&nbsp\;</div>\n\n<div style="text-align:center">Saturday\, the 18th of July from 7pm to 9pm we will have this amazing talent performing at My CoffeeShop.&nbsp\;</div>\n\n<div style="text-align:center">&nbsp\;</div>\n\n<div style="text-align:center">Grab a glass of wine\, lean back and enjoy this great entertainment!&nbsp\;</div>\n\n<div style="text-align:center">&nbsp\;</div>\n\n<div style="text-align:center">Check out Joshua&#39\;s Music at&nbsp\;<a href="http://www.joshuasmusic.com/">www.joshuasmusic.com</a></div>\n\n<div style="text-align:center">&nbsp\;</div>\n
LOCATION:My CoffeeShop
UID:e.1934.1133
SEQUENCE:3
DTSTAMP:20260422T115927Z
URL:https://business.dublin-georgia.com/events/details/live-music-with-joshua-turner-07-18-2015-1133
END:VEVENT

END:VCALENDAR
