BEGIN:VCALENDAR
VERSION:2.0
PRODID:-//ChamberMaster//Event Calendar 2.0//EN
METHOD:PUBLISH
X-PUBLISHED-TTL:P3D
REFRESH-INTERVAL:P3D
CALSCALE:GREGORIAN
BEGIN:VEVENT
DTSTART:20150710T230000Z
DTEND:20150711T010000Z
X-MICROSOFT-CDO-ALLDAYEVENT:FALSE
SUMMARY:Live Piano Performance with Donnie DeLoach
DESCRIPTION:Live Piano Performance \n\nwith\n\nDonnie DeLoach\n\n \n\nJoin us for a night with delightful piano music in our outside seating area and start the weekend off right! \n\n \n\nDon't forget about our Happy Hour from 7pm - 8pm! Buy one glass of wine/beer and get the second one Half off!!!
X-ALT-DESC;FMTTYPE=text/html:<div style="text-align:center"><span style="font-size:22.1000003814697px"><strong>Live Piano Performance&nbsp\;</strong></span></div>\n\n<div style="text-align:center"><span style="font-size:22.1000003814697px"><em>with</em></span></div>\n\n<div style="text-align:center"><span style="font-size:22.1000003814697px"><em>Donnie DeLoach</em></span></div>\n\n<div style="text-align:center">&nbsp\;</div>\n\n<div style="text-align:center"><span style="font-size:22.1000003814697px">Join us for a night with delightful piano music in our outside seating area and start the weekend off right!&nbsp\;</span></div>\n\n<div style="text-align:center">&nbsp\;</div>\n\n<div style="text-align:center"><span style="font-size:22.1000003814697px">Don&#39\;t forget about our Happy Hour from 7pm - 8pm! Buy one glass of wine/beer and get the second one Half off!!!&nbsp\;</span></div>\n
LOCATION:My CoffeeShop
UID:e.1934.932
SEQUENCE:3
DTSTAMP:20260422T115057Z
URL:https://business.dublin-georgia.com/events/details/live-piano-performance-with-donnie-deloach-07-10-2015-932
END:VEVENT

END:VCALENDAR
