BEGIN:VCALENDAR
VERSION:2.0
PRODID:-//ChamberMaster//Event Calendar 2.0//EN
METHOD:PUBLISH
X-PUBLISHED-TTL:P3D
REFRESH-INTERVAL:P3D
CALSCALE:GREGORIAN
BEGIN:VEVENT
DTSTART:20180504T113000Z
DTEND:20180504T130000Z
X-MICROSOFT-CDO-ALLDAYEVENT:FALSE
SUMMARY:May First Friday Means Business 2018
DESCRIPTION:"First Friday Means Business" the Dublin-Laurens County Chamber's informative monthly breakfast meeting. This event features a key-note speaker who addresses issues of interest to the community as well as updates from the city\, county\, chamber and from the breakfast sponsor.  The breakfast will be held at Middle Georgia State University - Dublin Campus from 7:30   9:00 a.m. on the first Friday of each month and will be attended by many of the Dublin-Laurens County top business managers and leaders.\n\n\n\n\n\nProgram: Laurens County Board of Education Candidates\n\nDistrict 1 and District 4\n\n\n\nGuest Speakers:\n\nDoug Bridges - District 1\n\nKathy Sweat - District 1\n\nBilly Crooms - District 4\n\nKevin Malone - District 4\n\n\n\nOther guest speakers on our program include Artiffany Stanley\, City of Dublin\; Bryan Rogers\, Laurens County Commission\; Jeff Cannon\, Dublin-Laurens County Chamber of Commerce and Dr. Christopher Blake\, Middle Georgia State University.
X-ALT-DESC;FMTTYPE=text/html:<span style="font-size:14px\;"><span style="color: rgb(51\, 51\, 51)\; font-family: &quot\;century gothic&quot\;\, sans-serif\;"><strong>&ldquo\;First Friday&nbsp\;<em>Means</em>&nbsp\;Business&rdquo\;&nbsp\;</strong>the Dublin-Laurens County Chamber&rsquo\;s informative monthly breakfast meeting. This event features a key-note speaker who addresses issues of interest to the community as well as updates from the city\, county\, chamber and from the breakfast sponsor.&nbsp\; The breakfast will be held at Middle Georgia State University -&nbsp\;Dublin Campus from 7:30 &ndash\; 9:00 a.m. on the first Friday of each month and will be attended by many of the Dublin-Laurens County top business managers and leaders.</span></span><br style="color: rgb(51\, 51\, 51)\; font-family: sans-serif\, Arial\, Verdana\, &quot\;Trebuchet MS&quot\;\; font-size: 13px\;" />\n<br style="color: rgb(51\, 51\, 51)\; font-family: sans-serif\, Arial\, Verdana\, &quot\;Trebuchet MS&quot\;\; font-size: 13px\;" />\n<br style="color: rgb(51\, 51\, 51)\; font-family: sans-serif\, Arial\, Verdana\, &quot\;Trebuchet MS&quot\;\; font-size: 13px\;" />\n<span style="color: rgb(51\, 51\, 51)\; font-family: sans-serif\, Arial\, Verdana\, &quot\;Trebuchet MS&quot\;\; font-size: 14px\;"><strong>Program: Laurens County Board of Education Candidates<br />\nDistrict 1 and District 4<br />\n<br />\nGuest Speakers:<br />\nDoug Bridges - District 1<br />\nKathy Sweat - District 1<br />\nBilly Crooms - District 4<br />\nKevin Malone - District 4<br />\n<br />\nOther guest speakers on our program include Artiffany Stanley\, City of Dublin\; Bryan Rogers\, Laurens County Commission\; Jeff Cannon\, Dublin-Laurens County Chamber of Commerce and Dr. Christopher Blake\, Middle Georgia State University.</strong></span>
LOCATION:Middle Georgia State University - Dublin Campus Student Center 1900 Bellevue Road Dublin\, GA 31021
UID:e.1934.1277
SEQUENCE:3
DTSTAMP:20260420T043203Z
URL:https://business.dublin-georgia.com/events/details/may-first-friday-means-business-2018-1277
END:VEVENT

END:VCALENDAR
