BEGIN:VCALENDAR
VERSION:2.0
PRODID:-//ChamberMaster//Event Calendar 2.0//EN
METHOD:PUBLISH
X-PUBLISHED-TTL:P3D
REFRESH-INTERVAL:P3D
CALSCALE:GREGORIAN
BEGIN:VEVENT
DTSTART:20180725T120000Z
DTEND:20180726T130000Z
X-MICROSOFT-CDO-ALLDAYEVENT:FALSE
SUMMARY:Membership 101 July 25\, 2018
DESCRIPTION:Chamber 101 is a comprehensive membership orientation.  In this session you will learn about the Chamber mission\, member benefits\, meetings and networking events\, committees\, sponsorships\, and how to maximize the benefits of your Chamber investment.  Attend this orientation to meet the staff and get the facts about how we serve you and your business.\n\n\n\nLight breakfast will be served.
X-ALT-DESC;FMTTYPE=text/html:<span style="color: rgb(51\, 51\, 51)\; font-family: sans-serif\, Arial\, Verdana\, &quot\;Trebuchet MS&quot\;\; font-size: 13px\; background-color: rgb(255\, 255\, 255)\;">Chamber 101 is a comprehensive membership orientation.&nbsp\; In this session you will learn about the Chamber mission\, member benefits\, meetings and networking events\, committees\, sponsorships\, and how to maximize the benefits of your Chamber investment.&nbsp\; Attend this orientation to meet the staff and get the facts about how we serve you and your business.<br />\n<br />\nLight breakfast will be served.</span>
LOCATION:McGrath Keen Sr. Conference Center 1200 Bellevue Avenue\, Ste. B Dublin\, GA 31021
UID:e.1934.1301
SEQUENCE:3
DTSTAMP:20260419T235246Z
URL:https://business.dublin-georgia.com/events/details/membership-101-july-25-2018-1301
END:VEVENT

END:VCALENDAR
