BEGIN:VCALENDAR
VERSION:2.0
PRODID:-//ChamberMaster//Event Calendar 2.0//EN
METHOD:PUBLISH
X-PUBLISHED-TTL:P3D
REFRESH-INTERVAL:P3D
CALSCALE:GREGORIAN
BEGIN:VEVENT
DTSTART:20180301T130000Z
DTEND:20180301T140000Z
X-MICROSOFT-CDO-ALLDAYEVENT:FALSE
SUMMARY:Membership 101- March 1\, 2018
DESCRIPTION:Chamber 101 is a comprehensive membership orientation.  In this session you will learn about the Chamber mission\, member benefits\, meetings and networking events\, committees\, sponsorships\, and how to maximize the benefits of your Chamber investment.  Attend this orientation to meet the staff and get the facts about how we serve you and your business.
X-ALT-DESC;FMTTYPE=text/html:Chamber 101 is a comprehensive membership orientation.&nbsp\; In this session you will learn about the Chamber mission\, member benefits\, meetings and networking events\, committees\, sponsorships\, and how to maximize the benefits of your Chamber investment.&nbsp\; Attend this orientation to meet the staff and get the facts about how we serve you and your business.
LOCATION:McGrath Keen Sr. Conference Center 1200 Bellevue Avenue\, Ste. B Dublin\, GA 31021
UID:e.1934.1271
SEQUENCE:3
DTSTAMP:20260420T055547Z
URL:https://business.dublin-georgia.com/events/details/membership-101-march-1-2018-1271
END:VEVENT

END:VCALENDAR
