BEGIN:VCALENDAR
VERSION:2.0
PRODID:-//ChamberMaster//Event Calendar 2.0//EN
METHOD:PUBLISH
X-PUBLISHED-TTL:P3D
REFRESH-INTERVAL:P3D
CALSCALE:GREGORIAN
BEGIN:VEVENT
DTSTART:20190316T220000Z
DTEND:20190317T010000Z
X-MICROSOFT-CDO-ALLDAYEVENT:FALSE
SUMMARY:Munchies in the Park in conjunction with ShamROCK
DESCRIPTION:HAVE THE TIME OF YOUR LIFE\n\n\n\nMunchies in the Park in conjunction with ShamROCK\n\nSponsored by the St. Patrick's Festival Committee\n\nFood tokens available for purchase on site.
X-ALT-DESC;FMTTYPE=text/html:<span style="font-size:20px\;"><strong>HAVE THE TIME OF YOUR LIFE</strong></span><br />\n<br />\n<span style="color:#008000\;"><strong>Munchies in the Park in conjunction with ShamROCK</strong></span><br />\nSponsored by the St. Patrick&#39\;s Festival Committee<br />\nFood tokens available for purchase on site.
LOCATION:Stubbs Park 100 Church Street Dublin\, GA 31021
UID:e.1934.1395
SEQUENCE:3
DTSTAMP:20260419T124513Z
URL:https://business.dublin-georgia.com/events/details/munchies-in-the-park-in-conjunction-with-shamrock-1395
END:VEVENT

END:VCALENDAR
