BEGIN:VCALENDAR
VERSION:2.0
PRODID:-//ChamberMaster//Event Calendar 2.0//EN
METHOD:PUBLISH
X-PUBLISHED-TTL:P3D
REFRESH-INTERVAL:P3D
CALSCALE:GREGORIAN
BEGIN:VEVENT
DTSTART:20171107T133000Z
DTEND:20171107T143000Z
X-MICROSOFT-CDO-ALLDAYEVENT:FALSE
SUMMARY:Pre-Legislative Breakfast - Preview 2018
DESCRIPTION:SOLD OUT!
X-ALT-DESC;FMTTYPE=text/html:<span style="font-size:16px\;"><span style="font-family: tahoma\;"><strong>SOLD OUT!</strong></span></span>
LOCATION:McGrath Keen Sr. Conference Center 1200 Bellevue Avenue\, Ste. B Dublin\, GA 31021
UID:e.1934.1253
SEQUENCE:3
DTSTAMP:20260420T124100Z
URL:https://business.dublin-georgia.com/events/details/pre-legislative-breakfast-preview-2018-1253
END:VEVENT

END:VCALENDAR
