BEGIN:VCALENDAR
VERSION:2.0
PRODID:-//ChamberMaster//Event Calendar 2.0//EN
METHOD:PUBLISH
X-PUBLISHED-TTL:P3D
REFRESH-INTERVAL:P3D
CALSCALE:GREGORIAN
BEGIN:VEVENT
DTSTART:20181128T130000Z
DTEND:20181128T140000Z
X-MICROSOFT-CDO-ALLDAYEVENT:FALSE
SUMMARY:Pre-Legislative "Preview 2019"
DESCRIPTION:Join us\, along with State Senator Larry Walker\, State Representative District 150 Matt Hatchett and State Representative District 144 Danny Mathis\, to discuss the issues for the 2019 Session.  Bring your questions and enjoy a light breakfast.
X-ALT-DESC;FMTTYPE=text/html:Join us\, along with State Senator Larry Walker\, State Representative District 150 Matt Hatchett and State Representative District 144 Danny Mathis\, to discuss the issues for the 2019 Session.&nbsp\; Bring your questions and enjoy a light breakfast.
LOCATION:McGath Keen Sr. Conference Center 1200 Bellevue Avenue\, Ste. B Dublin\, GA 31021
UID:e.1934.1353
SEQUENCE:3
DTSTAMP:20260419T180043Z
URL:https://business.dublin-georgia.com/events/details/pre-legislative-preview-2019-1353
END:VEVENT

END:VCALENDAR
