BEGIN:VCALENDAR
VERSION:2.0
PRODID:-//ChamberMaster//Event Calendar 2.0//EN
METHOD:PUBLISH
X-PUBLISHED-TTL:P3D
REFRESH-INTERVAL:P3D
CALSCALE:GREGORIAN
BEGIN:VEVENT
DTSTART:20180815T153000Z
DTEND:20180815T170000Z
X-MICROSOFT-CDO-ALLDAYEVENT:FALSE
SUMMARY:Women in Business - Need Some Breathing Room? SOLD OUT!!
DESCRIPTION:Do you ever feel like you don't enjoy anything because you are trying to do everything?  You are efficient...but exhausted. You could use a little bit of breathing room.\n\nJoin us on Wednesday\, August 15th in the McGrath Keen Sr. Conference Center at 11:30 a.m. for lunch and some Breathing Room with Sandra Stanley\, Author\, mom of three grown children\, wife of Andy Stanley\, founder of North Point Ministries\; foster mom  and advocate for kids and families struggling through the difficulties of foster care.Sandra is a native of Dublin.\n\n\n\n\n\nSOLD OUT!
X-ALT-DESC;FMTTYPE=text/html:<p>Do you ever feel like you don&#39\;t enjoy anything because you are trying to do everything?&nbsp\; You are efficient...but exhausted. You could use a little bit of breathing room.</p>\n\n<p>Join us on Wednesday\, August 15th in the McGrath Keen Sr. Conference Center at 11:30 a.m. for lunch and some Breathing Room with Sandra Stanley\, Author\, mom of three grown children\, wife of Andy Stanley\, founder of North Point Ministries\; foster mom&nbsp\; and advocate for kids and families struggling through the difficulties of foster care.Sandra is a native of Dublin.<br />\n<br />\n<br />\n<span style="font-size: 22px\;"><strong>SOLD OUT!</strong></span></p>\n
LOCATION:McGrath Keen Sr. Conference Center 1200 Bellevue Avenue\, Ste. B Dublin\, GA 31021
UID:e.1934.1304
SEQUENCE:3
DTSTAMP:20260419T223403Z
URL:https://business.dublin-georgia.com/events/details/women-in-business-need-some-breathing-room-sold-out-1304
END:VEVENT

END:VCALENDAR
